BEGIN:VCALENDAR
VERSION:2.0
PRODID:-//AMS - ECPv6.15.20//NONSGML v1.0//EN
CALSCALE:GREGORIAN
METHOD:PUBLISH
X-WR-CALNAME:AMS
X-ORIGINAL-URL:https://www.amsmusicology.org
X-WR-CALDESC:Events for AMS
REFRESH-INTERVAL;VALUE=DURATION:PT1H
X-Robots-Tag:noindex
X-PUBLISHED-TTL:PT1H
BEGIN:VTIMEZONE
TZID:America/New_York
BEGIN:DAYLIGHT
TZOFFSETFROM:-0500
TZOFFSETTO:-0400
TZNAME:EDT
DTSTART:20240310T070000
END:DAYLIGHT
BEGIN:STANDARD
TZOFFSETFROM:-0400
TZOFFSETTO:-0500
TZNAME:EST
DTSTART:20241103T060000
END:STANDARD
BEGIN:DAYLIGHT
TZOFFSETFROM:-0500
TZOFFSETTO:-0400
TZNAME:EDT
DTSTART:20250309T070000
END:DAYLIGHT
BEGIN:STANDARD
TZOFFSETFROM:-0400
TZOFFSETTO:-0500
TZNAME:EST
DTSTART:20251102T060000
END:STANDARD
BEGIN:DAYLIGHT
TZOFFSETFROM:-0500
TZOFFSETTO:-0400
TZNAME:EDT
DTSTART:20260308T070000
END:DAYLIGHT
BEGIN:STANDARD
TZOFFSETFROM:-0400
TZOFFSETTO:-0500
TZNAME:EST
DTSTART:20261101T060000
END:STANDARD
END:VTIMEZONE
BEGIN:VEVENT
DTSTART;VALUE=DATE:20251011
DTEND;VALUE=DATE:20251013
DTSTAMP:20260425T072648
CREATED:20250811T155159Z
LAST-MODIFIED:20250811T155159Z
UID:17474-1760140800-1760313599@www.amsmusicology.org
SUMMARY:AMS Midwest Chapter Meeting
DESCRIPTION:Deadline for abstract submission: August 22\, 2025\, by 11:59 PM EST \nThe Midwest Chapter officers are pleased to announce that the Fall 2025 meeting will be held in-person with an option for virtual presentation on Saturday and Sunday\, October 11–12. David Kidger and Jessica Payette will be the hosts for the meeting. Please note that the virtual option is intended for those who live more than 150 miles from the conference location or have other extenuating circumstances that preclude attendance in person. \nProposals for presentations\, special sessions\, panel discussions\, and papers with a performance component are welcomed on any topic related to musicology. Abstracts should be no longer than 250 words and should clearly indicate the scope of the research\, methodology\, and conclusions. Presentations will be limited to twenty minutes\, with an additional ten minutes allotted for questions and discussion. Speakers at the 2024 Fall meeting are not eligible to submit a paper abstract for the 2025 Fall meeting; however\, they are welcome to participate in panel discussions. Only one submission per person is allowed. \nIn lieu of a keynote speaker\, the meeting will feature a roundtable panel discussion\, moderated by Chapter President Keith Clifton\, titled “Search Committee Confidential.” This session will offer strategies and advice for effectively managing the current musicology job market with panelists representing a variety of institutions. \nComplete Guidelines for Paper Submission and our easy online submission form may be found on the chapter’s Abstract Submission page. \nAfter you submit an abstract\, you will receive a confirmation that your proposal has been received. Blind copies of all proposals will be forwarded to the Program Committee. \nYou need to be a current regular or student member of the AMS-Midwest Chapter for your abstract to be considered (chapter membership is not the same as national membership in the AMS). To join or renew your membership\, please visit the chapter’s membership page. \nSubmission of an abstract denotes the speaker’s willingness and availability to attend the 2025 Fall Chapter meeting. \nWe encourage both graduate and undergraduate students to present their work at our meetings. In addition to the abstract and other requested information\, students submitting proposals must name and provide the email address for an advisor or other faculty member who can verify the student presenter’s readiness to present at a professional meeting. Student members of AMS-Midwest are invited to compete for one of two annual prizes for outstanding papers offered by Indiana University Press and A-R Editions\, Inc. Students wishing to compete for the award are expected to submit their final text\, including handouts and/or slides\, as an email attachment to Dr. Megan Eagen-Jones\, Chair of the Program Committee\, at eagen -at- illinois.edu\, by September 26\, 2025\, 11:59 PM EST. For updated details of the awards\, see the chapter’s Awards page. \nYour AMS-Midwest Chapter Officers: \nKeith Clifton\, President\namsmidwestpresident -at- gmail.com \nSophie Benn\, Secretary\nams.midwest.secretary -at- gmail.com \nJessica Payette\, Treasurer\nams.midwest.treasurer -at- gmail.com
URL:https://www.amsmusicology.org/calendar/ams-midwest-chapter-meeting-3/
LOCATION:Oakland University\, Rochester\, MI\, United States
CATEGORIES:Chapter Meetings
END:VEVENT
END:VCALENDAR